BEGIN:VCALENDAR
PRODID:-//punkave//apostrophe 1.x//EN
VERSION:1.0
TZ:0
BEGIN:VEVENT
CATEGORIES:MEETING
DTSTART:20140811T040000Z
DTEND:20140824T165959Z
DTSTAMP:20130713T052323Z
SUMMARY:Summer Bridge Camp
DESCRIPTION:All year ADM in session 8/11-8/22.
LOCATION:
UID:1635
END:VEVENT
END:VCALENDAR