BEGIN:VCALENDAR
PRODID:-//punkave//apostrophe 1.x//EN
VERSION:1.0
TZ:0
BEGIN:VEVENT
CATEGORIES:MEETING
DTSTART:20140825T040000Z
DTEND:20140831T165959Z
DTSTAMP:20130713T052523Z
SUMMARY:Staff In-Service: ADM CLOSED THIS WEEK
DESCRIPTION:
LOCATION:
UID:1636
END:VEVENT
END:VCALENDAR