BEGIN:VCALENDAR
PRODID:-//punkave//apostrophe 1.x//EN
VERSION:1.0
TZ:0
BEGIN:VEVENT
CATEGORIES:MEETING
DTSTART:20140901T040000Z
DTEND:20140903T165959Z
DTSTAMP:20140613T004327Z
SUMMARY:School and ADM Closed: Labor Day
DESCRIPTION:
LOCATION:
UID:1963
END:VEVENT
END:VCALENDAR