BEGIN:VCALENDAR
PRODID:-//punkave//apostrophe 1.x//EN
VERSION:1.0
TZ:0
BEGIN:VEVENT
CATEGORIES:MEETING
DTSTART:20140902T040000Z
DTEND:20140907T165959Z
DTSTAMP:20140613T004000Z
SUMMARY:Phase-In
DESCRIPTION:School has an abbreviated phase-in schedule this week. All schedules have been sent out; contact the office for assistance. Returning ADM in session Tuesday and Wednesday, 9/2 and 9/3. ADM in session Thursday and Friday, 9/4 and 9/5.
LOCATION:
UID:1962
END:VEVENT
END:VCALENDAR