BEGIN:VCALENDAR
PRODID:-//punkave//apostrophe 1.x//EN
VERSION:1.0
TZ:0
BEGIN:VEVENT
CATEGORIES:MEETING
DTSTART:20140905T123000Z
DTEND:20140905T133000Z
DTSTAMP:20140613T005000Z
SUMMARY:Parent Coffee: Meet and Greet and Orientation
DESCRIPTION:Parent Meet and Greet Coffee and Orientation.
LOCATION:
UID:1964
END:VEVENT
END:VCALENDAR