BEGIN:VCALENDAR
PRODID:-//punkave//apostrophe 1.x//EN
VERSION:1.0
TZ:0
BEGIN:VEVENT
CATEGORIES:MEETING
DTSTART:20140907T160000Z
DTEND:20140907T180000Z
DTSTAMP:20140613T005500Z
SUMMARY:Toddler House Brunch and Orientation
DESCRIPTION:Parent only brunch and orientation with Toddler House staff.
LOCATION:
UID:1965
END:VEVENT
END:VCALENDAR