BEGIN:VCALENDAR
PRODID:-//punkave//apostrophe 1.x//EN
VERSION:1.0
TZ:0
BEGIN:VEVENT
CATEGORIES:MEETING
DTSTART:20140908T040000Z
DTEND:20140910T165959Z
DTSTAMP:20140613T005700Z
SUMMARY:First Day of School
DESCRIPTION:First official day of school with regular schedule.
LOCATION:
UID:1966
END:VEVENT
END:VCALENDAR