BEGIN:VCALENDAR
PRODID:-//punkave//apostrophe 1.x//EN
VERSION:1.0
TZ:0
BEGIN:VEVENT
CATEGORIES:MEETING
DTSTART:20140910T220000Z
DTEND:20140911T001500Z
DTSTAMP:20140613T010823Z
SUMMARY:Parent Potluck and Workshop with Ms. Dhar
DESCRIPTION:A Parent only evening with Neepa Dhar.
LOCATION:
UID:1969
END:VEVENT
END:VCALENDAR