BEGIN:VCALENDAR
PRODID:-//punkave//apostrophe 1.x//EN
VERSION:1.0
TZ:0
BEGIN:VEVENT
CATEGORIES:MEETING
DTSTART:20140911T220000Z
DTEND:20140912T001500Z
DTSTAMP:20140613T011019Z
SUMMARY:Parent Potluck and Workshop with Ms. Matsukevich
DESCRIPTION:A Parent only evening with Anna Matsukevich.
LOCATION:
UID:1970
END:VEVENT
END:VCALENDAR