BEGIN:VCALENDAR
PRODID:-//punkave//apostrophe 1.x//EN
VERSION:1.0
TZ:0
BEGIN:VEVENT
CATEGORIES:MEETING
DTSTART:20140916T220000Z
DTEND:20140917T001500Z
DTSTAMP:20140613T011710Z
SUMMARY:Parent Potluck and Workshop with Ms. Coulter
DESCRIPTION:A Parent only evening with Jennifer Coulter.
LOCATION:
UID:1972
END:VEVENT
END:VCALENDAR