BEGIN:VCALENDAR
PRODID:-//punkave//apostrophe 1.x//EN
VERSION:1.0
TZ:0
BEGIN:VEVENT
CATEGORIES:MEETING
DTSTART:20140917T220000Z
DTEND:20140918T001500Z
DTSTAMP:20140613T011919Z
SUMMARY:Parent Potluck and Workshop with Ms. Prestas
DESCRIPTION:A Parent only evening with Jean Prestas.
LOCATION:
UID:1973
END:VEVENT
END:VCALENDAR