BEGIN:VCALENDAR
PRODID:-//punkave//apostrophe 1.x//EN
VERSION:1.0
TZ:0
BEGIN:VEVENT
CATEGORIES:MEETING
DTSTART:20140918T121500Z
DTEND:20140918T131500Z
DTSTAMP:20140613T012200Z
SUMMARY:Kindergarten Parent Coffee
DESCRIPTION:Parent Coffee for K parents.
LOCATION:
UID:1974
END:VEVENT
END:VCALENDAR