BEGIN:VCALENDAR
PRODID:-//punkave//apostrophe 1.x//EN
VERSION:1.0
TZ:0
BEGIN:VEVENT
CATEGORIES:MEETING
DTSTART:20140920T123000Z
DTEND:20140920T193000Z
DTSTAMP:20140613T012409Z
SUMMARY:Board Retreat
DESCRIPTION:
LOCATION:
UID:1975
END:VEVENT
END:VCALENDAR