BEGIN:VCALENDAR
PRODID:-//punkave//apostrophe 1.x//EN
VERSION:1.0
TZ:0
BEGIN:VEVENT
CATEGORIES:MEETING
DTSTART:20140923T121500Z
DTEND:20140923T130000Z
DTSTAMP:20140613T012600Z
SUMMARY:Auction Volunteer Coffee
DESCRIPTION:Coffee for auction volunteers.
LOCATION:
UID:1976
END:VEVENT
END:VCALENDAR