BEGIN:VCALENDAR
PRODID:-//punkave//apostrophe 1.x//EN
VERSION:1.0
TZ:0
BEGIN:VEVENT
CATEGORIES:MEETING
DTSTART:20140927T150000Z
DTEND:20140927T180000Z
DTSTAMP:20140613T011400Z
SUMMARY:Fall Family Picnic
DESCRIPTION:
LOCATION:
UID:1971
END:VEVENT
END:VCALENDAR