BEGIN:VCALENDAR
PRODID:-//punkave//apostrophe 1.x//EN
VERSION:1.0
TZ:0
BEGIN:VEVENT
CATEGORIES:MEETING
DTSTART:20141002T213000Z
DTEND:20141002T230000Z
DTSTAMP:20140613T025336Z
SUMMARY:Kindergarten Year Workshop (For next year\'s K parents)
DESCRIPTION:
LOCATION:
UID:1978
END:VEVENT
END:VCALENDAR