BEGIN:VCALENDAR
PRODID:-//punkave//apostrophe 1.x//EN
VERSION:1.0
TZ:0
BEGIN:VEVENT
CATEGORIES:MEETING
DTSTART:20141007T121500Z
DTEND:20141007T130000Z
DTSTAMP:20140613T025601Z
SUMMARY:Coffee with Laura Connor
DESCRIPTION:Toddler parent coffee with Laura Connor.
LOCATION:
UID:1979
END:VEVENT
END:VCALENDAR