BEGIN:VCALENDAR
PRODID:-//punkave//apostrophe 1.x//EN
VERSION:1.0
TZ:0
BEGIN:VEVENT
CATEGORIES:MEETING
DTSTART:20141008T121500Z
DTEND:20141008T130000Z
DTSTAMP:20140613T025803Z
SUMMARY:Coffee with Michelle Nowacky
DESCRIPTION:Toddler parent coffee with Michelle Nowacky.
LOCATION:
UID:1980
END:VEVENT
END:VCALENDAR