BEGIN:VCALENDAR
PRODID:-//punkave//apostrophe 1.x//EN
VERSION:1.0
TZ:0
BEGIN:VEVENT
CATEGORIES:MEETING
DTSTART:20141008T130000Z
DTEND:20141008T143000Z
DTSTAMP:20140613T030051Z
SUMMARY:Toddler House ADM Parent Orientation to Primary Tour
DESCRIPTION:For current ADM toddler parents who will be going to ADM primary class next year.
LOCATION:
UID:1981
END:VEVENT
END:VCALENDAR