BEGIN:VCALENDAR
PRODID:-//punkave//apostrophe 1.x//EN
VERSION:1.0
TZ:0
BEGIN:VEVENT
CATEGORIES:MEETING
DTSTART:20141009T121500Z
DTEND:20141009T130000Z
DTSTAMP:20140613T030308Z
SUMMARY:Coffee with Jen Wollman
DESCRIPTION:Toddler parent coffee with Jen Wollman.
LOCATION:
UID:1982
END:VEVENT
END:VCALENDAR