BEGIN:VCALENDAR
PRODID:-//punkave//apostrophe 1.x//EN
VERSION:1.0
TZ:0
BEGIN:VEVENT
CATEGORIES:MEETING
DTSTART:20141009T130000Z
DTEND:20141009T143000Z
DTSTAMP:20140613T030828Z
SUMMARY:Toddler House Parent Orientation to Primary Tour
DESCRIPTION:For current toddler parents who will be going to primary class next year.
LOCATION:
UID:1983
END:VEVENT
END:VCALENDAR