BEGIN:VCALENDAR
PRODID:-//punkave//apostrophe 1.x//EN
VERSION:1.0
TZ:0
BEGIN:VEVENT
CATEGORIES:MEETING
DTSTART:20141013T040000Z
DTEND:20141015T165959Z
DTSTAMP:20140613T032400Z
SUMMARY:Columbus Day: SCHOOL CLOSED
DESCRIPTION:ADM CLOSED.
LOCATION:
UID:1985
END:VEVENT
END:VCALENDAR