BEGIN:VCALENDAR
PRODID:-//punkave//apostrophe 1.x//EN
VERSION:1.0
TZ:0
BEGIN:VEVENT
CATEGORIES:MEETING
DTSTART:20141014T040000Z
DTEND:20141122T175959Z
DTSTAMP:20140613T033127Z
SUMMARY:Parent Observations Begin
DESCRIPTION:
LOCATION:
UID:1986
END:VEVENT
END:VCALENDAR