BEGIN:VCALENDAR
PRODID:-//punkave//apostrophe 1.x//EN
VERSION:1.0
TZ:0
BEGIN:VEVENT
CATEGORIES:MEETING
DTSTART:20141015T121500Z
DTEND:20141015T130000Z
DTSTAMP:20140613T033425Z
SUMMARY:Coffee with Michelle Pysher
DESCRIPTION:Primary parent coffee with Michelle Pysher.
LOCATION:
UID:1987
END:VEVENT
END:VCALENDAR