BEGIN:VCALENDAR
PRODID:-//punkave//apostrophe 1.x//EN
VERSION:1.0
TZ:0
BEGIN:VEVENT
CATEGORIES:MEETING
DTSTART:20141016T121500Z
DTEND:20141016T130000Z
DTSTAMP:20140613T033635Z
SUMMARY:Coffee with Neepa Dhar
DESCRIPTION:Primary parent coffee with Neepa Dhar.
LOCATION:
UID:1988
END:VEVENT
END:VCALENDAR