BEGIN:VCALENDAR
PRODID:-//punkave//apostrophe 1.x//EN
VERSION:1.0
TZ:0
BEGIN:VEVENT
CATEGORIES:MEETING
DTSTART:20141017T130000Z
DTEND:20141017T150000Z
DTSTAMP:20141008T004800Z
SUMMARY:Toddler House Tour for Current Primary Families with Siblings
DESCRIPTION:Parents of current students interested in the Toddler House: Please join us Friday, October 17th ~ 9:00 am At GTMS West campus 2215 Arch Street, entrance at the Croskey Street gate For more information, questions, and to rsvp for the tour, please contact Erika at egoldberg@gtms.org.
LOCATION:
UID:2143
END:VEVENT
END:VCALENDAR