BEGIN:VCALENDAR
PRODID:-//punkave//apostrophe 1.x//EN
VERSION:1.0
TZ:0
BEGIN:VEVENT
CATEGORIES:MEETING
DTSTART:20141020T220000Z
DTEND:20141021T000000Z
DTSTAMP:20140613T033800Z
SUMMARY:Board Meeting
DESCRIPTION:
LOCATION:
UID:1989
END:VEVENT
END:VCALENDAR