BEGIN:VCALENDAR
PRODID:-//punkave//apostrophe 1.x//EN
VERSION:1.0
TZ:0
BEGIN:VEVENT
CATEGORIES:MEETING
DTSTART:20141021T223000Z
DTEND:20141022T000000Z
DTSTAMP:20140613T034600Z
SUMMARY:Admissions Open House
DESCRIPTION:
LOCATION:
UID:1992
END:VEVENT
END:VCALENDAR