BEGIN:VCALENDAR
PRODID:-//punkave//apostrophe 1.x//EN
VERSION:1.0
TZ:0
BEGIN:VEVENT
CATEGORIES:MEETING
DTSTART:20141021T121500Z
DTEND:20141021T130000Z
DTSTAMP:20140613T033900Z
SUMMARY:Coffee with Anna Matsukevich
DESCRIPTION:Primary parent coffee with Anna Matsukevich.
LOCATION:
UID:1990
END:VEVENT
END:VCALENDAR