BEGIN:VCALENDAR
PRODID:-//punkave//apostrophe 1.x//EN
VERSION:1.0
TZ:0
BEGIN:VEVENT
CATEGORIES:MEETING
DTSTART:20141021T040000Z
DTEND:20141023T165959Z
DTSTAMP:20140613T034300Z
SUMMARY:Kindergarten Lunch Around the World: Mediterranean
DESCRIPTION:
LOCATION:
UID:1991
END:VEVENT
END:VCALENDAR