BEGIN:VCALENDAR
PRODID:-//punkave//apostrophe 1.x//EN
VERSION:1.0
TZ:0
BEGIN:VEVENT
CATEGORIES:MEETING
DTSTART:20141023T040000Z
DTEND:20141025T165959Z
DTSTAMP:20140613T034700Z
SUMMARY:Kindergarten Lunch Around the World: Mediterranean
DESCRIPTION:
LOCATION:
UID:1993
END:VEVENT
END:VCALENDAR