BEGIN:VCALENDAR
PRODID:-//punkave//apostrophe 1.x//EN
VERSION:1.0
TZ:0
BEGIN:VEVENT
CATEGORIES:MEETING
DTSTART:20141028T121500Z
DTEND:20141028T130000Z
DTSTAMP:20140613T035204Z
SUMMARY:Coffee with Jennifer Coulter
DESCRIPTION:Primary parent coffee with Jennifer Coulter.
LOCATION:
UID:1994
END:VEVENT
END:VCALENDAR