BEGIN:VCALENDAR
PRODID:-//punkave//apostrophe 1.x//EN
VERSION:1.0
TZ:0
BEGIN:VEVENT
CATEGORIES:MEETING
DTSTART:20141029T121500Z
DTEND:20141029T133000Z
DTSTAMP:20140613T035400Z
SUMMARY:Coffee with Jean Prestas
DESCRIPTION:Primary parent coffee with Jean Prestas.
LOCATION:
UID:1995
END:VEVENT
END:VCALENDAR