BEGIN:VCALENDAR
PRODID:-//punkave//apostrophe 1.x//EN
VERSION:1.0
TZ:0
BEGIN:VEVENT
CATEGORIES:MEETING
DTSTART:20141101T140000Z
DTEND:20141101T160000Z
DTSTAMP:20140929T222500Z
SUMMARY:Parent Education Workshop: CPR Class
DESCRIPTION:For GTMS Parents, caregivers, and friends! Sign up with Tychelle Graham by phone, email, or in person.
LOCATION:
UID:2134
END:VEVENT
END:VCALENDAR