BEGIN:VCALENDAR
PRODID:-//punkave//apostrophe 1.x//EN
VERSION:1.0
TZ:0
BEGIN:VEVENT
CATEGORIES:MEETING
DTSTART:20141103T050000Z
DTEND:20141105T175959Z
DTSTAMP:20140613T035936Z
SUMMARY:Thanksgiving Food Drive Begins
DESCRIPTION:
LOCATION:
UID:1996
END:VEVENT
END:VCALENDAR