BEGIN:VCALENDAR
PRODID:-//punkave//apostrophe 1.x//EN
VERSION:1.0
TZ:0
BEGIN:VEVENT
CATEGORIES:MEETING
DTSTART:20141106T131500Z
DTEND:20141106T140000Z
DTSTAMP:20140613T040309Z
SUMMARY:1st Thursday Coffee
DESCRIPTION:
LOCATION:
UID:1998
END:VEVENT
END:VCALENDAR