BEGIN:VCALENDAR
PRODID:-//punkave//apostrophe 1.x//EN
VERSION:1.0
TZ:0
BEGIN:VEVENT
CATEGORIES:MEETING
DTSTART:20141107T230000Z
DTEND:20141108T010000Z
DTSTAMP:20140613T041100Z
SUMMARY:Fall Parent Social
DESCRIPTION:On Friday, November 7, from 6-8pm we will have our Fall Parent Social at the Rogues Gallery (11 S. 21st Street, Phila, PA 19103, between Market and Chestnut streets.) There will be drink and food special
LOCATION:Rogues Gallery 11 S. 21st Street, 19103
UID:1999
END:VEVENT
END:VCALENDAR