BEGIN:VCALENDAR
PRODID:-//punkave//apostrophe 1.x//EN
VERSION:1.0
TZ:0
BEGIN:VEVENT
CATEGORIES:MEETING
DTSTART:20141107T050000Z
DTEND:20141109T175959Z
DTSTAMP:20140613T041300Z
SUMMARY:Staff In-Service: 11:45 DISMISSAL
DESCRIPTION:No afternoon programs, ADM is in session.
LOCATION:
UID:2000
END:VEVENT
END:VCALENDAR