BEGIN:VCALENDAR
PRODID:-//punkave//apostrophe 1.x//EN
VERSION:1.0
TZ:0
BEGIN:VEVENT
CATEGORIES:MEETING
DTSTART:20141114T050000Z
DTEND:20141116T175959Z
DTSTAMP:20140617T012500Z
SUMMARY:Parent/Teacher Conferences: SCHOOL CLOSED
DESCRIPTION:Care available during conference time(s). ADM in session.
LOCATION:
UID:2001
END:VEVENT
END:VCALENDAR