BEGIN:VCALENDAR
PRODID:-//punkave//apostrophe 1.x//EN
VERSION:1.0
TZ:0
BEGIN:VEVENT
CATEGORIES:MEETING
DTSTART:20141125T163000Z
DTEND:20141125T173000Z
DTSTAMP:20140729T231400Z
SUMMARY:Lunch Around the World: Puerto Rican
DESCRIPTION:K students should not bring lunch this day!
LOCATION:
UID:2088
END:VEVENT
END:VCALENDAR