BEGIN:VCALENDAR
PRODID:-//punkave//apostrophe 1.x//EN
VERSION:1.0
TZ:0
BEGIN:VEVENT
CATEGORIES:MEETING
DTSTART:20141126T050000Z
DTEND:20141128T175959Z
DTSTAMP:20140617T013203Z
SUMMARY:Thanksgiving Holiday: 11:45 DISMISSAL
DESCRIPTION:Today is PAJAMA DAY! ADM is NOT in session.
LOCATION:
UID:2003
END:VEVENT
END:VCALENDAR