BEGIN:VCALENDAR
PRODID:-//punkave//apostrophe 1.x//EN
VERSION:1.0
TZ:0
BEGIN:VEVENT
CATEGORIES:MEETING
DTSTART:20141127T050000Z
DTEND:20141130T175959Z
DTSTAMP:20140617T013328Z
SUMMARY:Thanksgiving Holiday: SCHOOL CLOSED
DESCRIPTION:ADM CLOSED.
LOCATION:
UID:2004
END:VEVENT
END:VCALENDAR