BEGIN:VCALENDAR
PRODID:-//punkave//apostrophe 1.x//EN
VERSION:1.0
TZ:0
BEGIN:VEVENT
CATEGORIES:MEETING
DTSTART:20141201T050000Z
DTEND:20141214T175959Z
DTSTAMP:20140617T014200Z
SUMMARY:Holiday Toy Drive Begins
DESCRIPTION:
LOCATION:
UID:2008
END:VEVENT
END:VCALENDAR