BEGIN:VCALENDAR
PRODID:-//punkave//apostrophe 1.x//EN
VERSION:1.0
TZ:0
BEGIN:VEVENT
CATEGORIES:MEETING
DTSTART:20141202T220000Z
DTEND:20141202T230000Z
DTSTAMP:20140617T013723Z
SUMMARY:East/West Primary Parent/Child Classroom Visit
DESCRIPTION:This is a special evening for second year and beyond children to bring their parents to the classroom. New (first year) children will have a visit in January.
LOCATION:
UID:2005
END:VEVENT
END:VCALENDAR