BEGIN:VCALENDAR
PRODID:-//punkave//apostrophe 1.x//EN
VERSION:1.0
TZ:0
BEGIN:VEVENT
CATEGORIES:MEETING
DTSTART:20141204T131500Z
DTEND:20141205T020000Z
DTSTAMP:20141121T024000Z
SUMMARY:1st Thursday Coffee: Playing with Your Child
DESCRIPTION:Helena Grady, Head of School, will discuss the benefits of playing with your child, and how it all ties in to child development.
LOCATION:
UID:2189
END:VEVENT
END:VCALENDAR