BEGIN:VCALENDAR
PRODID:-//punkave//apostrophe 1.x//EN
VERSION:1.0
TZ:0
BEGIN:VEVENT
CATEGORIES:MEETING
DTSTART:20141205T220000Z
DTEND:20141205T220000Z
DTSTAMP:20140617T014052Z
SUMMARY:Staff Winter Party: ADM DISMISSAL 5:00pm
DESCRIPTION:
LOCATION:
UID:2007
END:VEVENT
END:VCALENDAR