BEGIN:VCALENDAR
PRODID:-//punkave//apostrophe 1.x//EN
VERSION:1.0
TZ:0
BEGIN:VEVENT
CATEGORIES:MEETING
DTSTART:20141208T230000Z
DTEND:20141209T010000Z
DTSTAMP:20140617T014400Z
SUMMARY:Board Meeting
DESCRIPTION:
LOCATION:
UID:2009
END:VEVENT
END:VCALENDAR