BEGIN:VCALENDAR
PRODID:-//punkave//apostrophe 1.x//EN
VERSION:1.0
TZ:0
BEGIN:VEVENT
CATEGORIES:MEETING
DTSTART:20141210T233000Z
DTEND:20141211T013000Z
DTSTAMP:20141113T223600Z
SUMMARY:Parent Education: Positive Parenting Techniques
DESCRIPTION:Positive Parenting Techniques with Stephen Soffer, PhD Do you struggle with getting your child to follow directions? Are tantrums making it difficult to get through your day? Learn how to use positive reinforcement‑based parenting strategies from Dr. Stephen Soffer and how to better manage common behavioral issues from your child such as compliance with directions/rules and temper outbursts. Supporting age‑appropriate independence will also be discussed. Thursday / December 10, 2014 / Reception 6:30 PM / Workshop 7:00‑8:30 PM
LOCATION:
UID:2179
END:VEVENT
END:VCALENDAR