BEGIN:VCALENDAR
PRODID:-//punkave//apostrophe 1.x//EN
VERSION:1.0
TZ:0
BEGIN:VEVENT
CATEGORIES:MEETING
DTSTART:20141219T163000Z
DTEND:20141219T173000Z
DTSTAMP:20140729T231600Z
SUMMARY:Lunch Around the World: Brazilian
DESCRIPTION:K students should not bring lunch this day!
LOCATION:
UID:2089
END:VEVENT
END:VCALENDAR