BEGIN:VCALENDAR
PRODID:-//punkave//apostrophe 1.x//EN
VERSION:1.0
TZ:0
BEGIN:VEVENT
CATEGORIES:MEETING
DTSTART:20141222T050000Z
DTEND:20141225T175959Z
DTSTAMP:20140617T014625Z
SUMMARY:Winter Break: SCHOOL CLOSED
DESCRIPTION:ADM In Session
LOCATION:
UID:2010
END:VEVENT
END:VCALENDAR